BEGIN:VCALENDAR
VERSION:2.0
PRODID:-//wp-events-plugin.com//7.2.3.1//EN
TZID:America/New_York
X-WR-TIMEZONE:America/New_York
BEGIN:VEVENT
UID:2323@first-unitarian-pgh.org
DTSTART;TZID=America/New_York:20240122T190000
DTEND;TZID=America/New_York:20240122T200000
DTSTAMP:20231208T160047Z
URL:https://www.first-unitarian-pgh.org/events/11887/
SUMMARY:Discussion proposed revision of UU Principles
DESCRIPTION:Join Rev. Kate for a one hour round-robin style discussion on t
 he proposed revision to our UU Principles. The final vote will take place 
 at the UUA annual meeting in June.\nThere are three more opportunities to 
 join this discussion:\nOn Zoom on Monday\, January 22\, 7-8 p.m. https://z
 oom.us/j/96406286304?pwd=dytEZ1ppemUzNHhIMXhxS0JsMnk1Zz09\n\nIn person\, S
 unday\, January 28\, 12:30 -1:30 p.m. (light lunch served)\nor Sunday\, Ja
 n. 28 5 - 6 p.m. both in the Schweitzer Room.\n\nHere is the proposed revi
 sion to prepare for the discussion.
CATEGORIES:Other
END:VEVENT
BEGIN:VTIMEZONE
TZID:America/New_York
X-LIC-LOCATION:America/New_York
BEGIN:STANDARD
DTSTART:20231105T010000
TZOFFSETFROM:-0400
TZOFFSETTO:-0500
TZNAME:EST
END:STANDARD
END:VTIMEZONE
END:VCALENDAR