BEGIN:VCALENDAR
VERSION:2.0
PRODID:-//wp-events-plugin.com//7.2.3.1//EN
TZID:America/New_York
X-WR-TIMEZONE:America/New_York
BEGIN:VEVENT
UID:2292@first-unitarian-pgh.org
DTSTART;TZID=America/New_York:20231203T113000
DTEND;TZID=America/New_York:20231203T124500
DTSTAMP:20231114T161002Z
URL:https://www.first-unitarian-pgh.org/events/2023-alternative-holiday-gi
 ft-market/
SUMMARY:2023 Alternative Holiday Gift Market
DESCRIPTION:The Alternative Holiday Gift Market is a long First UU traditio
 n!  In partnership with Alternative Gifts International\, we have selected
  12 compelling global and US causes for you to "shop" among as alternative
 /extra gifts of conscience this holiday season. On two successive Sundays\
 , Dec 3 &amp\; 10\, you can browse among the displays of urgent\, poignant
  and powerful causes that are carefully vetted/managed by AGI. Your charit
 able donation can be designated in honor of a friend or family member. You
 'll receive a beautiful description of the cause and a Gift Holiday Card o
 f your choice at check out\,  Cash\, Checks\, and Credit Cards taken.  Giv
 e a gift that will have a profound effect on a person/family in need and w
 ill be a radical act of kindness!  Tables will also be hosted by Reading R
 eady Pittsburgh\, Khasi Hills and Valley Clean Air. Volunteers are needed 
 for set up\, hosting\, etc. Contact Karen Burns Rutigliano (burnskaren00@g
 mail.com) to learn more and to help joyfully!
CATEGORIES:Community,Connect
LOCATION:First Unitarian Church of Pittsburgh\, 605 Morewood Avenue\, Pitts
 burgh\, PA\, 15213\, United States
GEO:40.450619;-79.94266
X-APPLE-STRUCTURED-LOCATION;VALUE=URI;X-ADDRESS=605 Morewood Avenue\, Pitts
 burgh\, PA\, 15213\, United States;X-APPLE-RADIUS=100;X-TITLE=First Unitar
 ian Church of Pittsburgh:geo:40.450619,-79.94266
END:VEVENT
BEGIN:VTIMEZONE
TZID:America/New_York
X-LIC-LOCATION:America/New_York
BEGIN:STANDARD
DTSTART:20231105T010000
TZOFFSETFROM:-0400
TZOFFSETTO:-0500
TZNAME:EST
END:STANDARD
END:VTIMEZONE
END:VCALENDAR