BEGIN:VCALENDAR
VERSION:2.0
PRODID:-//wp-events-plugin.com//7.2.3.1//EN
TZID:America/New_York
X-WR-TIMEZONE:America/New_York
BEGIN:VEVENT
UID:1130@first-unitarian-pgh.org
DTSTART;TZID=America/New_York:20230312T140000
DTEND;TZID=America/New_York:20230312T150000
DTSTAMP:20230302T182836Z
URL:https://www.first-unitarian-pgh.org/events/a-walk-in-the-park/
SUMMARY:A Walker in the Park
DESCRIPTION:Join Rev. Kate for a one-hour walk in Frick Park. Meet at 2 p.m
 . at Frick Park\, Beechwood entrance (by Blue Side Playground picnic shelt
 er). Dogs are welcome to bring their humans.
CATEGORIES:Community,Membership Month
END:VEVENT
BEGIN:VTIMEZONE
TZID:America/New_York
X-LIC-LOCATION:America/New_York
BEGIN:DAYLIGHT
DTSTART:20230312T030000
TZOFFSETFROM:-0500
TZOFFSETTO:-0400
TZNAME:EDT
END:DAYLIGHT
END:VTIMEZONE
END:VCALENDAR