BEGIN:VCALENDAR
VERSION:2.0
PRODID:-//wp-events-plugin.com//7.2.3.1//EN
TZID:America/New_York
X-WR-TIMEZONE:America/New_York
BEGIN:VEVENT
UID:139@first-unitarian-pgh.org
DTSTART;TZID=America/New_York:20201118T190000
DTEND;TZID=America/New_York:20201118T210000
DTSTAMP:20201112T191055Z
URL:https://www.first-unitarian-pgh.org/events/board-of-trustees-november-
 meeting/
SUMMARY:Board of Trustees November Meeting
DESCRIPTION:November Board of Trustees Meeting\n\nWhile the church building
  is closed\, the Board of Trustees is holding its monthly meetings via Zoo
 m. The next meeting is on Wednesday\, November 18\, at 7:00 p.m. Members a
 nd friends of the church are welcome to attend.\n\nIf you would like to at
 tend a Board meeting as an observer\, please get in touch with Board Secre
 tary Eleanor Mayfield (elmayfield@verizon.net)\, who will arrange for you 
 to receive the Zoom link to join the meeting.\n\nIf you have an issue that
  you would like to speak about at a Board meeting\, please send your reque
 st to the Board Secretary along with a brief explanation of the issue you 
 would like to bring to the Board’s attention.
CATEGORIES:Committee Meeting
END:VEVENT
BEGIN:VTIMEZONE
TZID:America/New_York
X-LIC-LOCATION:America/New_York
BEGIN:STANDARD
DTSTART:20201101T010000
TZOFFSETFROM:-0400
TZOFFSETTO:-0500
TZNAME:EST
END:STANDARD
END:VTIMEZONE
END:VCALENDAR