BEGIN:VCALENDAR
VERSION:2.0
PRODID:-//wp-events-plugin.com//7.2.3.1//EN
TZID:America/New_York
X-WR-TIMEZONE:America/New_York
BEGIN:VEVENT
UID:1002@first-unitarian-pgh.org
DTSTART;TZID=America/New_York:20221217T153000
DTEND;TZID=America/New_York:20221217T223000
DTSTAMP:20221205T180537Z
URL:https://www.first-unitarian-pgh.org/events/cello-fury-concert-2/
SUMMARY:Cello Fury Concert
DESCRIPTION:The event starts at 7:30 in the Sanctuary.\n\nMore information 
 coming soon
CATEGORIES:Concerts
END:VEVENT
BEGIN:VTIMEZONE
TZID:America/New_York
X-LIC-LOCATION:America/New_York
BEGIN:STANDARD
DTSTART:20221106T010000
TZOFFSETFROM:-0400
TZOFFSETTO:-0500
TZNAME:EST
END:STANDARD
END:VTIMEZONE
END:VCALENDAR