BEGIN:VCALENDAR
VERSION:2.0
PRODID:-//wp-events-plugin.com//7.2.3.1//EN
TZID:America/New_York
X-WR-TIMEZONE:America/New_York
BEGIN:VEVENT
UID:3411@first-unitarian-pgh.org
DTSTART;TZID=America/New_York:20250125T170000
DTEND;TZID=America/New_York:20250125T191500
DTSTAMP:20250113T171108Z
URL:https://www.first-unitarian-pgh.org/events/chili-cook-off-and-game-nig
 ht/
SUMMARY:Chili Cook-Off and Game Night
DESCRIPTION:We will encourage members and friends of the congregation to pr
 epare their favorite chili recipe\, which will be sampled by the rest of t
 he congregation\, who will collectively vote for the church's favorite. We
 'll prepare side dishes (cornbread\, salad\, mac and cheese) to round out 
 the meal\, which will be served at a multi-generational game night.
CATEGORIES:Community
END:VEVENT
BEGIN:VTIMEZONE
TZID:America/New_York
X-LIC-LOCATION:America/New_York
BEGIN:STANDARD
DTSTART:20241103T010000
TZOFFSETFROM:-0400
TZOFFSETTO:-0500
TZNAME:EST
END:STANDARD
END:VTIMEZONE
END:VCALENDAR