BEGIN:VCALENDAR
VERSION:2.0
PRODID:-//wp-events-plugin.com//7.2.3.1//EN
TZID:America/New_York
X-WR-TIMEZONE:America/New_York
BEGIN:VEVENT
UID:242@first-unitarian-pgh.org
DTSTART;TZID=America/New_York:20201224T180000
DTEND;TZID=America/New_York:20201224T180000
DTSTAMP:20201210T172622Z
URL:https://www.first-unitarian-pgh.org/events/christmas-eve-service/
SUMMARY:Christmas Eve Service
DESCRIPTION:Dec 24 - Christmas Eve\nLivestreamed at 6:00 pm (prelude begins
  at 5:55 pm)\n“The Gifts of Christmas”\nA traditional Unitarian Univer
 salist Christmas Eve service\, with stories\, carols\, music\, and candle 
 lighting. Bring a candle and source of light!\nWhat are the gifts that mat
 ter? Homily by Rev. Connie Grant\; music by Ellen Gozion\, Director of Ins
 trumental Music and the Incidental Chamber Players.
CATEGORIES:Worship Services
LOCATION:First Unitarian Church of Pittsburgh\, 605 Morewood Avenue\, Pitts
 burgh\, PA\, 15213\, United States
GEO:40.450619;-79.94266
X-APPLE-STRUCTURED-LOCATION;VALUE=URI;X-ADDRESS=605 Morewood Avenue\, Pitts
 burgh\, PA\, 15213\, United States;X-APPLE-RADIUS=100;X-TITLE=First Unitar
 ian Church of Pittsburgh:geo:40.450619,-79.94266
END:VEVENT
BEGIN:VTIMEZONE
TZID:America/New_York
X-LIC-LOCATION:America/New_York
BEGIN:STANDARD
DTSTART:20201101T010000
TZOFFSETFROM:-0400
TZOFFSETTO:-0500
TZNAME:EST
END:STANDARD
END:VTIMEZONE
END:VCALENDAR