BEGIN:VCALENDAR
VERSION:2.0
PRODID:-//wp-events-plugin.com//7.2.3.1//EN
TZID:America/New_York
X-WR-TIMEZONE:America/New_York
BEGIN:VEVENT
UID:3323@first-unitarian-pgh.org
DTSTART;TZID=America/New_York:20241208T120000
DTEND;TZID=America/New_York:20241208T133000
DTSTAMP:20241129T141944Z
URL:https://www.first-unitarian-pgh.org/events/congregational-meeting-2/
SUMMARY:Congregational Meeting
DESCRIPTION:Congregational Budget Meeting. The 2025 Church budget will be p
 resented\, and questions about it will be answered. A Zoom link will be em
 ailed before the meeting. The meeting will also be live-streamed in the Un
 dercroft Gallery.\n\nUndercroft Gallery
CATEGORIES:Community
END:VEVENT
BEGIN:VTIMEZONE
TZID:America/New_York
X-LIC-LOCATION:America/New_York
BEGIN:STANDARD
DTSTART:20241103T010000
TZOFFSETFROM:-0400
TZOFFSETTO:-0500
TZNAME:EST
END:STANDARD
END:VTIMEZONE
END:VCALENDAR