BEGIN:VCALENDAR
VERSION:2.0
PRODID:-//wp-events-plugin.com//7.2.3.1//EN
TZID:America/New_York
X-WR-TIMEZONE:America/New_York
BEGIN:VEVENT
UID:1033@first-unitarian-pgh.org
DTSTART;TZID=America/New_York:20230204T103000
DTEND;TZID=America/New_York:20230204T123000
DTSTAMP:20230112T154822Z
URL:https://www.first-unitarian-pgh.org/events/council-connections/
SUMMARY:Council Connections
DESCRIPTION:A planning meeting for creating a leadership or program council
 . Hosted by BOT and Rev. Kate\n\nUndercroft Gallary
CATEGORIES:Connect
END:VEVENT
BEGIN:VTIMEZONE
TZID:America/New_York
X-LIC-LOCATION:America/New_York
BEGIN:STANDARD
DTSTART:20221106T010000
TZOFFSETFROM:-0400
TZOFFSETTO:-0500
TZNAME:EST
END:STANDARD
END:VTIMEZONE
END:VCALENDAR