BEGIN:VCALENDAR
VERSION:2.0
PRODID:-//wp-events-plugin.com//7.2.3.1//EN
TZID:America/New_York
X-WR-TIMEZONE:America/New_York
BEGIN:VEVENT
UID:987@first-unitarian-pgh.org
DTSTART;TZID=America/New_York:20221203T101500
DTEND;TZID=America/New_York:20221203T140000
DTSTAMP:20221117T150736Z
URL:https://www.first-unitarian-pgh.org/events/december-art-show-hanging/
SUMMARY:December Art Show Hanging
DESCRIPTION:Fiber Arts Show. Artist submission from 11 am until noon. Hangi
 ng from noon to 2 pm.\n\nUndercroft Gallary\n\n&nbsp\;
CATEGORIES:Art,Community
LOCATION:First Unitarian Church of Pittsburgh\, 605 Morewood Avenue\, Pitts
 burgh\, PA\, 15213\, United States
GEO:40.450619;-79.94266
X-APPLE-STRUCTURED-LOCATION;VALUE=URI;X-ADDRESS=605 Morewood Avenue\, Pitts
 burgh\, PA\, 15213\, United States;X-APPLE-RADIUS=100;X-TITLE=First Unitar
 ian Church of Pittsburgh:geo:40.450619,-79.94266
END:VEVENT
BEGIN:VTIMEZONE
TZID:America/New_York
X-LIC-LOCATION:America/New_York
BEGIN:STANDARD
DTSTART:20221106T010000
TZOFFSETFROM:-0400
TZOFFSETTO:-0500
TZNAME:EST
END:STANDARD
END:VTIMEZONE
END:VCALENDAR