BEGIN:VCALENDAR
VERSION:2.0
PRODID:-//wp-events-plugin.com//7.2.3.1//EN
TZID:America/New_York
X-WR-TIMEZONE:America/New_York
BEGIN:VEVENT
UID:2324@first-unitarian-pgh.org
DTSTART;TZID=America/New_York:20240128T123000
DTEND;TZID=America/New_York:20240128T133000
DTSTAMP:20231208T155730Z
URL:https://www.first-unitarian-pgh.org/events/discussion-of-proposed-revi
 sion-of-uu-principles/
SUMMARY:Discussion of proposed revision of UU Principles
DESCRIPTION:Join Rev. Kate for a one hour round-robin style discussion on t
 he proposed revision to our UU Principles. The final vote will take place 
 at the UUA annual meeting in June.\nThere are two remaining opportunities 
 to join this discussion:\n\nIn person\, Sunday\, January 28\, 12:30 -1:30 
 p.m. (light lunch served)\nor Sunday\, Jan. 28 5 - 6 p.m. both in the Schw
 eitzer Room.\n\nHere is the proposed revision to prepare for the discussio
 n.
CATEGORIES:Other
LOCATION:First Unitarian Church of Pittsburgh\, 605 Morewood Avenue\, Pitts
 burgh\, PA\, 15213\, United States
GEO:40.450619;-79.94266
X-APPLE-STRUCTURED-LOCATION;VALUE=URI;X-ADDRESS=605 Morewood Avenue\, Pitts
 burgh\, PA\, 15213\, United States;X-APPLE-RADIUS=100;X-TITLE=First Unitar
 ian Church of Pittsburgh:geo:40.450619,-79.94266
END:VEVENT
BEGIN:VTIMEZONE
TZID:America/New_York
X-LIC-LOCATION:America/New_York
BEGIN:STANDARD
DTSTART:20231105T010000
TZOFFSETFROM:-0400
TZOFFSETTO:-0500
TZNAME:EST
END:STANDARD
END:VTIMEZONE
END:VCALENDAR