BEGIN:VCALENDAR
VERSION:2.0
PRODID:-//wp-events-plugin.com//7.2.3.1//EN
TZID:America/New_York
X-WR-TIMEZONE:America/New_York
BEGIN:VEVENT
UID:548@first-unitarian-pgh.org
DTSTART;TZID=America/New_York:20220219T100000
DTEND;TZID=America/New_York:20220219T120000
DTSTAMP:20220209T203903Z
URL:https://www.first-unitarian-pgh.org/events/donate-to-help-afghan-refug
 ees/
SUMMARY:DONATE TO HELP AFGHAN REFUGEES
DESCRIPTION:On Saturday\, February 19 from 10AM-Noon\, Joan Harvey will be 
 at the Church's Morewood Avenue door collecting donations for the Afghan r
 efugees who have resettled in Pittsburgh.  These people come to our city 
 with nothing and our donations to them through the Jewish Family and Commu
 nity Services of Pittsburgh help them to rebuild their lives.\n\nThis mont
 h JFCS is most in need of\n\nKitchen Items:\n\nKitchen size garbage can\, 
 garbage bags\, paper towels\, mops\, mop buckets\, dish soap\, floor clean
 er\, dish sponges\, dish towels\, Brita Water Pitcher Dispensers\, cups\, 
 mugs\n\nBedroom Items:\n\nTwin and/or queen size sheets\, twin and/or quee
 n size comforters\, pillowcases\, blankets/throws\n\nBathroom Items:\n\nLa
 undry baskets\, adult and children's toothbrushes and toothpaste\, liquid 
 body wash\, Bar Soap\, Deodorant\, Shampoo\, Conditioner\, bath towel\, wa
 shcloth\, baby care products( baby powder\, diaper rash cream\, lotion and
  soap).\n\nStationary: \n\nNotebooks\, pens\, mechanical pencils\, crayon
 s.\n\nPlease bring something if you can.  Thank you for your generosity t
 o our new neighbors.\n\nPat Schuetz\, Betty Duquesnoy\, and Joan Harvey\n\
 nContact Pat with any questions:  patschuetz@verizon.net
ATTACH;FMTTYPE=image/jpeg:https://www.first-unitarian-pgh.org/wp-content/u
 ploads/2022/02/Serve-Afg.jpg
CATEGORIES:Serve
END:VEVENT
BEGIN:VTIMEZONE
TZID:America/New_York
X-LIC-LOCATION:America/New_York
BEGIN:STANDARD
DTSTART:20211107T010000
TZOFFSETFROM:-0400
TZOFFSETTO:-0500
TZNAME:EST
END:STANDARD
END:VTIMEZONE
END:VCALENDAR