BEGIN:VCALENDAR
VERSION:2.0
PRODID:-//wp-events-plugin.com//7.2.3.1//EN
TZID:America/New_York
X-WR-TIMEZONE:America/New_York
BEGIN:VEVENT
UID:3094@first-unitarian-pgh.org
DTSTART;TZID=America/New_York:20241027T120000
DTEND;TZID=America/New_York:20241027T140000
DTSTAMP:20240920T155731Z
URL:https://www.first-unitarian-pgh.org/events/earth-religion-circle-meeti
 ng/
SUMMARY:Earth Religion Circle Meeting
DESCRIPTION:Please join us for an Earth Religion lead celebration of the au
 tumn season and the Samhain holiday. This is a time to celebrate life and 
 honor our ancestors. We will host a interfaith Wiccan style ritual\, discu
 ssion\, meditation\, and some lite refreshments will be served in the gard
 en following the event. All are welcome to attend. Bring a poem\, chant\, 
 and/or prayer to share!\n\nSanctuary and Garden
CATEGORIES:Community
END:VEVENT
BEGIN:VTIMEZONE
TZID:America/New_York
X-LIC-LOCATION:America/New_York
BEGIN:DAYLIGHT
DTSTART:20240310T030000
TZOFFSETFROM:-0500
TZOFFSETTO:-0400
TZNAME:EDT
END:DAYLIGHT
END:VTIMEZONE
END:VCALENDAR