BEGIN:VCALENDAR
VERSION:2.0
PRODID:-//wp-events-plugin.com//7.2.3.1//EN
TZID:America/New_York
X-WR-TIMEZONE:America/New_York
BEGIN:VEVENT
UID:2297@first-unitarian-pgh.org
DTSTART;TZID=America/New_York:20231203T150000
DTEND;TZID=America/New_York:20231203T170000
DTSTAMP:20231130T015245Z
URL:https://www.first-unitarian-pgh.org/events/eecm-meal-prep-6/
SUMMARY:EECM Meal Prep
DESCRIPTION:Undercroft Kitchen
CATEGORIES:Community
END:VEVENT
BEGIN:VTIMEZONE
TZID:America/New_York
X-LIC-LOCATION:America/New_York
BEGIN:STANDARD
DTSTART:20231105T010000
TZOFFSETFROM:-0400
TZOFFSETTO:-0500
TZNAME:EST
END:STANDARD
END:VTIMEZONE
END:VCALENDAR