BEGIN:VCALENDAR
VERSION:2.0
PRODID:-//wp-events-plugin.com//7.2.3.1//EN
TZID:America/New_York
X-WR-TIMEZONE:America/New_York
BEGIN:VEVENT
UID:330@first-unitarian-pgh.org
DTSTART;TZID=America/New_York:20211005T190000
DTEND;TZID=America/New_York:20211005T200000
DTSTAMP:20210823T141118Z
URL:https://www.first-unitarian-pgh.org/events/first-church-humanist-group
 /
SUMMARY:Humanist Group
DESCRIPTION:Want to learn about Humanism? Join us\, the steering committee 
 of the First Church Humanist Group\, as we explore the paths briefly each 
 of us has taken on our own journeys toward Religious Humanism.\n\nCommitte
 e Members: Lucinda Beattie\, Amy de Chicchis\, Stuart Hastings\, John Ho
 oper\, Audrey Masalehdan
ATTACH;FMTTYPE=image/jpeg:https://www.first-unitarian-pgh.org/wp-content/u
 ploads/2021/08/UUHA-1e0e7778157da644860174eb88546209.jpg
CATEGORIES:Community
END:VEVENT
BEGIN:VTIMEZONE
TZID:America/New_York
X-LIC-LOCATION:America/New_York
BEGIN:DAYLIGHT
DTSTART:20210314T030000
TZOFFSETFROM:-0500
TZOFFSETTO:-0400
TZNAME:EDT
END:DAYLIGHT
END:VTIMEZONE
END:VCALENDAR