BEGIN:VCALENDAR
VERSION:2.0
PRODID:-//wp-events-plugin.com//7.2.3.1//EN
TZID:America/New_York
X-WR-TIMEZONE:America/New_York
BEGIN:VEVENT
UID:2425@first-unitarian-pgh.org
DTSTART;TZID=America/New_York:20241208T113000
DTEND;TZID=America/New_York:20241208T124500
DTSTAMP:20240304T184101Z
URL:https://www.first-unitarian-pgh.org/events/first-unitarian-book-store-
 open-2024-12-08/
SUMMARY:First Unitarian Book Store Open
DESCRIPTION:The First Church Bookstore closed during Covid. We are re-openi
 ng it monthly\, offering books from the InSpirit UU Bookstore\, books for 
 meetings and workshops being offered at the Church\, and books written by 
 our members.\n\nLibrary and Undercroft Gallery
CATEGORIES:Community
END:VEVENT
BEGIN:VTIMEZONE
TZID:America/New_York
X-LIC-LOCATION:America/New_York
BEGIN:STANDARD
DTSTART:20241103T010000
TZOFFSETFROM:-0400
TZOFFSETTO:-0500
TZNAME:EST
END:STANDARD
END:VTIMEZONE
END:VCALENDAR