BEGIN:VCALENDAR
VERSION:2.0
PRODID:-//wp-events-plugin.com//7.2.3.1//EN
TZID:America/New_York
X-WR-TIMEZONE:America/New_York
BEGIN:VEVENT
UID:745@first-unitarian-pgh.org
DTSTART;TZID=America/New_York:20230307T183000
DTEND;TZID=America/New_York:20230307T213000
DTSTAMP:20220721T170528Z
URL:https://www.first-unitarian-pgh.org/events/full-moon-circle-7/
SUMMARY:Full Moon Circle
DESCRIPTION:Senior High Room
CATEGORIES:Other
END:VEVENT
BEGIN:VTIMEZONE
TZID:America/New_York
X-LIC-LOCATION:America/New_York
BEGIN:STANDARD
DTSTART:20221106T010000
TZOFFSETFROM:-0400
TZOFFSETTO:-0500
TZNAME:EST
END:STANDARD
END:VTIMEZONE
END:VCALENDAR