BEGIN:VCALENDAR
VERSION:2.0
PRODID:-//wp-events-plugin.com//7.2.3.1//EN
TZID:America/New_York
X-WR-TIMEZONE:America/New_York
BEGIN:VEVENT
UID:5156@first-unitarian-pgh.org
DTSTART;TZID=America/New_York:20260503T120000
DTEND;TZID=America/New_York:20260503T134500
DTSTAMP:20260105T172745Z
URL:https://www.first-unitarian-pgh.org/events/grief-other-losses-support-
 group-2/
SUMMARY:Grief & Other Losses Support Group
DESCRIPTION:Library
CATEGORIES:Community
END:VEVENT
BEGIN:VTIMEZONE
TZID:America/New_York
X-LIC-LOCATION:America/New_York
BEGIN:DAYLIGHT
DTSTART:20260308T030000
TZOFFSETFROM:-0500
TZOFFSETTO:-0400
TZNAME:EDT
END:DAYLIGHT
END:VTIMEZONE
END:VCALENDAR