BEGIN:VCALENDAR
VERSION:2.0
PRODID:-//wp-events-plugin.com//7.2.3.1//EN
TZID:America/New_York
X-WR-TIMEZONE:America/New_York
BEGIN:VEVENT
UID:490@first-unitarian-pgh.org
DTSTART;TZID=America/New_York:20211120T100000
DTEND;TZID=America/New_York:20211120T120000
DTSTAMP:20211110T233025Z
URL:https://www.first-unitarian-pgh.org/events/help-afghan-refugees/
SUMMARY:Help Afghan Refugees
DESCRIPTION:Pat Schuetz and Betty Duquesnoy will be at the church's Morewoo
 d Avenue door collecting donations for the Afghan refugees who have resett
 led in Pittsburgh.\n\nThese people come to America with what they can carr
 y\, and our donations to them through the Jewish Family and Community Serv
 ice of Pittsburgh help them to rebuild their lives.\n\nWe have signed up t
 o provide full size\, unopened hygiene Items such as shampoo\, conditioner
 \, hand soap\, comb/brush\, body wash or bar soap\, baby diapers\, and wom
 en's sanitary pads.
CATEGORIES:Serve
LOCATION:First Unitarian Church of Pittsburgh\, 605 Morewood Avenue\, Pitts
 burgh\, PA\, 15213\, United States
GEO:40.450619;-79.94266
X-APPLE-STRUCTURED-LOCATION;VALUE=URI;X-ADDRESS=605 Morewood Avenue\, Pitts
 burgh\, PA\, 15213\, United States;X-APPLE-RADIUS=100;X-TITLE=First Unitar
 ian Church of Pittsburgh:geo:40.450619,-79.94266
END:VEVENT
BEGIN:VTIMEZONE
TZID:America/New_York
X-LIC-LOCATION:America/New_York
BEGIN:STANDARD
DTSTART:20211107T010000
TZOFFSETFROM:-0400
TZOFFSETTO:-0500
TZNAME:EST
END:STANDARD
END:VTIMEZONE
END:VCALENDAR