BEGIN:VCALENDAR
VERSION:2.0
PRODID:-//wp-events-plugin.com//7.2.3.1//EN
TZID:America/New_York
X-WR-TIMEZONE:America/New_York
BEGIN:VEVENT
UID:3399@first-unitarian-pgh.org
DTSTART;TZID=America/New_York:20241215T113000
DTEND;TZID=America/New_York:20241215T123000
DTSTAMP:20241212T154917Z
URL:https://www.first-unitarian-pgh.org/events/holiday-cookie-fundraiser-f
 or-youth/
SUMMARY:HOLIDAY COOKIE FUNDRAISER FOR YOUTH
DESCRIPTION:This Sunday\, support the youth in Our Whole Lives when you vis
 it the Alternative Gift Market! They will be selling holiday cookies to he
 lp fund this important program on sexuality education.
CATEGORIES:Community
END:VEVENT
BEGIN:VTIMEZONE
TZID:America/New_York
X-LIC-LOCATION:America/New_York
BEGIN:STANDARD
DTSTART:20241103T010000
TZOFFSETFROM:-0400
TZOFFSETTO:-0500
TZNAME:EST
END:STANDARD
END:VTIMEZONE
END:VCALENDAR