BEGIN:VCALENDAR
VERSION:2.0
PRODID:-//wp-events-plugin.com//7.2.3.1//EN
TZID:America/New_York
X-WR-TIMEZONE:America/New_York
BEGIN:VEVENT
UID:1166@first-unitarian-pgh.org
DTSTART;TZID=America/New_York:20230401T083000
DTEND;TZID=America/New_York:20230401T173000
DTSTAMP:20230329T185136Z
URL:https://www.first-unitarian-pgh.org/events/james-graham/
SUMMARY:James Graham
DESCRIPTION:Private Meeting\n\nUndercroft Gallery and all downstairs classr
 ooms
CATEGORIES:Private Event
END:VEVENT
BEGIN:VTIMEZONE
TZID:America/New_York
X-LIC-LOCATION:America/New_York
BEGIN:DAYLIGHT
DTSTART:20230312T030000
TZOFFSETFROM:-0500
TZOFFSETTO:-0400
TZNAME:EDT
END:DAYLIGHT
END:VTIMEZONE
END:VCALENDAR