BEGIN:VCALENDAR
VERSION:2.0
PRODID:-//wp-events-plugin.com//7.2.3.1//EN
TZID:America/New_York
X-WR-TIMEZONE:America/New_York
BEGIN:VEVENT
UID:1233@first-unitarian-pgh.org
DTSTART;TZID=America/New_York:20230430T190000
DTEND;TZID=America/New_York:20230430T220000
DTSTAMP:20230410T183240Z
URL:https://www.first-unitarian-pgh.org/events/kamraton-ensemble-presents-
 what-we-left-behind/
SUMMARY:Kamratōn Ensemble Presents: What We Left Behind
DESCRIPTION:Sanctuary
CATEGORIES:Concerts
END:VEVENT
BEGIN:VTIMEZONE
TZID:America/New_York
X-LIC-LOCATION:America/New_York
BEGIN:DAYLIGHT
DTSTART:20230312T030000
TZOFFSETFROM:-0500
TZOFFSETTO:-0400
TZNAME:EDT
END:DAYLIGHT
END:VTIMEZONE
END:VCALENDAR