BEGIN:VCALENDAR
VERSION:2.0
PRODID:-//wp-events-plugin.com//7.2.3.1//EN
TZID:America/New_York
X-WR-TIMEZONE:America/New_York
BEGIN:VEVENT
UID:2972@first-unitarian-pgh.org
DTSTART;TZID=America/New_York:20241013T120000
DTEND;TZID=America/New_York:20241013T124500
DTSTAMP:20240905T151259Z
URL:https://www.first-unitarian-pgh.org/events/lets-chat-about-the-new-uu-
 values-2/
SUMMARY:Let’s Chat About the New UU Values
DESCRIPTION:Join us for a discussion on the UUA's new Shared Values (https:
 //www.uua.org/beliefs/shared-values)\, which replace our previous Seven Pr
 inciples and Six Sources.\n\nThis will be an opportunity to learn about th
 e new values\, share your observations\, and ask questions.\n\nIn-person m
 eeting in the Schweitzer Room. Feel free to bring a lunch!
CATEGORIES:Community
LOCATION:First Unitarian Church of Pittsburgh\, 605 Morewood Avenue\, Pitts
 burgh\, PA\, 15213\, United States
GEO:40.450619;-79.94266
X-APPLE-STRUCTURED-LOCATION;VALUE=URI;X-ADDRESS=605 Morewood Avenue\, Pitts
 burgh\, PA\, 15213\, United States;X-APPLE-RADIUS=100;X-TITLE=First Unitar
 ian Church of Pittsburgh:geo:40.450619,-79.94266
END:VEVENT
BEGIN:VTIMEZONE
TZID:America/New_York
X-LIC-LOCATION:America/New_York
BEGIN:DAYLIGHT
DTSTART:20240310T030000
TZOFFSETFROM:-0500
TZOFFSETTO:-0400
TZNAME:EDT
END:DAYLIGHT
END:VTIMEZONE
END:VCALENDAR