BEGIN:VCALENDAR
VERSION:2.0
PRODID:-//wp-events-plugin.com//7.2.3.1//EN
TZID:America/New_York
X-WR-TIMEZONE:America/New_York
BEGIN:VEVENT
UID:2732@first-unitarian-pgh.org
DTSTART;TZID=America/New_York:20240918T193000
DTEND;TZID=America/New_York:20240918T213000
DTSTAMP:20240819T154456Z
URL:https://www.first-unitarian-pgh.org/events/may-day-choir-of-pittsburgh
 -concert/
SUMMARY:May Day Choir of Pittsburgh Concert
DESCRIPTION:Sanctuary\n\nZedashe Ensemble is an internationally known polyp
 honic vocal choir and dance group based in the eastern medieval fortress c
 ity of Sighnaghi\, Caucasus\, Georgia. It is one of the few mixed (male an
 d female) choirs in Georgia that is led by women. Directed by Ketevan Mind
 orashvili\, the ensemble was founded in the mid-1990s to sing polyphonic c
 hants unique to Georgia that were largely lost during the Communist era. T
 he complex three-part melodies date back to pre-Christian times and compri
 se music sung for the Orthodox liturgical services. Zedashe’s repertoire
  also includes folk songs\, instrumental melodies\, and accompanying dance
 s\, which were collected from old publications and learned from village so
 ng-masters from many diverse regions of the country.\n\nhttps://www.zedash
 e.com\n\n5:00 pm arrival
CATEGORIES:Community
END:VEVENT
BEGIN:VTIMEZONE
TZID:America/New_York
X-LIC-LOCATION:America/New_York
BEGIN:DAYLIGHT
DTSTART:20240310T030000
TZOFFSETFROM:-0500
TZOFFSETTO:-0400
TZNAME:EDT
END:DAYLIGHT
END:VTIMEZONE
END:VCALENDAR