BEGIN:VCALENDAR
VERSION:2.0
PRODID:-//wp-events-plugin.com//7.2.3.1//EN
TZID:America/New_York
X-WR-TIMEZONE:America/New_York
BEGIN:VEVENT
UID:3479@first-unitarian-pgh.org
DTSTART;TZID=America/New_York:20250202T143000
DTEND;TZID=America/New_York:20250202T173000
DTSTAMP:20250130T133603Z
URL:https://www.first-unitarian-pgh.org/events/meal-preparation-for-eecm-s
 unday-dinner/
SUMMARY:Meal preparation for EECM sunday dinner
DESCRIPTION:Undercroft Kitchen
CATEGORIES:Community
END:VEVENT
BEGIN:VTIMEZONE
TZID:America/New_York
X-LIC-LOCATION:America/New_York
BEGIN:STANDARD
DTSTART:20241103T010000
TZOFFSETFROM:-0400
TZOFFSETTO:-0500
TZNAME:EST
END:STANDARD
END:VTIMEZONE
END:VCALENDAR