BEGIN:VCALENDAR
VERSION:2.0
PRODID:-//wp-events-plugin.com//7.2.3.1//EN
TZID:America/New_York
X-WR-TIMEZONE:America/New_York
BEGIN:VEVENT
UID:781@first-unitarian-pgh.org
DTSTART;TZID=America/New_York;VALUE=DATE:20220930
DTEND;TZID=America/New_York;VALUE=DATE:20221029
DTSTAMP:20220825T193252Z
URL:https://www.first-unitarian-pgh.org/events/members-art-show/
SUMMARY:Members Art Show
DESCRIPTION:Call for Artists! Members Art Exhibit\nThe Art Committee of Fir
 st Unitarian is very very pleased to re-instate the Members Art Exhibit. A
 rt works of all kinds done by Members and Friends of the Church in a varie
 ty of media will be on display from Sept 30 to October 28 in the Undercrof
 t Gallery. We have waited a long time and this promises to be a wonderful 
 show. To enter your work\, please contact Linda Kauffman.\nlk01@andrew.cmu
 .edu
CATEGORIES:Events
LOCATION:First Unitarian Church of Pittsburgh\, 605 Morewood Avenue\, Pitts
 burgh\, PA\, 15213\, United States
GEO:40.450619;-79.94266
X-APPLE-STRUCTURED-LOCATION;VALUE=URI;X-ADDRESS=605 Morewood Avenue\, Pitts
 burgh\, PA\, 15213\, United States;X-APPLE-RADIUS=100;X-TITLE=First Unitar
 ian Church of Pittsburgh:geo:40.450619,-79.94266
END:VEVENT
BEGIN:VTIMEZONE
TZID:America/New_York
X-LIC-LOCATION:America/New_York
BEGIN:DAYLIGHT
DTSTART:20220313T030000
TZOFFSETFROM:-0500
TZOFFSETTO:-0400
TZNAME:EDT
END:DAYLIGHT
END:VTIMEZONE
END:VCALENDAR