BEGIN:VCALENDAR
VERSION:2.0
PRODID:-//wp-events-plugin.com//7.2.3.1//EN
TZID:America/New_York
X-WR-TIMEZONE:America/New_York
BEGIN:VEVENT
UID:471@first-unitarian-pgh.org
DTSTART;TZID=America/New_York:20211208T193000
DTEND;TZID=America/New_York:20211208T210000
DTSTAMP:20211120T155425Z
URL:https://www.first-unitarian-pgh.org/events/mens-group-2-2021-12-08/
SUMMARY:Men's Group
DESCRIPTION:\n The men's group will meet on the second Wednesday of the mo
 nth from 7:30 to 9:00 with a ZOOM gathering. This month\, Ali Masalehdon w
 ill lead a discussion on the topic of the middle East upheaval.  Come rea
 dy to share your understanding of the elements that led to the overthrow o
 f the Shah and of the Iranian revolution of 1978-79 and Ali will help us u
 nderstand what happened.All are welcome!  If you need any help with the z
 oom link or more information\, contact Jim at J5650R@comcast.net.\n\n&nb
 sp\;
CATEGORIES:Connect,Gathering of Men
END:VEVENT
BEGIN:VTIMEZONE
TZID:America/New_York
X-LIC-LOCATION:America/New_York
BEGIN:STANDARD
DTSTART:20211107T010000
TZOFFSETFROM:-0400
TZOFFSETTO:-0500
TZNAME:EST
END:STANDARD
END:VTIMEZONE
END:VCALENDAR