BEGIN:VCALENDAR
VERSION:2.0
PRODID:-//wp-events-plugin.com//7.2.3.1//EN
TZID:America/New_York
X-WR-TIMEZONE:America/New_York
BEGIN:VEVENT
UID:1297@first-unitarian-pgh.org
DTSTART;TZID=America/New_York:20230921T193000
DTEND;TZID=America/New_York:20230921T213000
DTSTAMP:20230629T164018Z
URL:https://www.first-unitarian-pgh.org/events/mongolian-folk-band/
SUMMARY:Tuvergen Mongolian folk band Concert
DESCRIPTION:Tuvergen Mongolian folk band\n\nSanctuary and Harper room\n\nTh
 e band arrives at 3:00 concert starts at 7:30
CATEGORIES:Music
END:VEVENT
BEGIN:VTIMEZONE
TZID:America/New_York
X-LIC-LOCATION:America/New_York
BEGIN:DAYLIGHT
DTSTART:20230312T030000
TZOFFSETFROM:-0500
TZOFFSETTO:-0400
TZNAME:EDT
END:DAYLIGHT
END:VTIMEZONE
END:VCALENDAR