BEGIN:VCALENDAR
VERSION:2.0
PRODID:-//wp-events-plugin.com//7.2.3.1//EN
TZID:America/New_York
X-WR-TIMEZONE:America/New_York
BEGIN:VEVENT
UID:3071@first-unitarian-pgh.org
DTSTART;TZID=America/New_York:20241020T180000
DTEND;TZID=America/New_York:20241020T203000
DTSTAMP:20240916T172116Z
URL:https://www.first-unitarian-pgh.org/events/movie-night-the-rise-of-chr
 istian-nationalism-3/
SUMMARY:Movie Night: The Rise of Christian Nationalism
DESCRIPTION:There is a lot at stake in the current election\, including dec
 ades-long plans by Christian Nationalists to use fear and manipulation in 
 order to influence national policy and provoke Biblical battles between go
 od and evil.\nWe will watch these documentaries\, followed by a discussion
 \n\nOct. 20\, God and Country\nJoin us for one or all of these award-winni
 ng documentaries.\n\nSchweitzer room
CATEGORIES:Community
END:VEVENT
BEGIN:VTIMEZONE
TZID:America/New_York
X-LIC-LOCATION:America/New_York
BEGIN:DAYLIGHT
DTSTART:20240310T030000
TZOFFSETFROM:-0500
TZOFFSETTO:-0400
TZNAME:EDT
END:DAYLIGHT
END:VTIMEZONE
END:VCALENDAR