BEGIN:VCALENDAR
VERSION:2.0
PRODID:-//wp-events-plugin.com//7.2.3.1//EN
TZID:America/New_York
X-WR-TIMEZONE:America/New_York
BEGIN:VEVENT
UID:1245@first-unitarian-pgh.org
DTSTART;TZID=America/New_York:20230430T140000
DTEND;TZID=America/New_York:20230430T153000
DTSTAMP:20230420T015937Z
URL:https://www.first-unitarian-pgh.org/events/panel-discussion-the-changi
 ng-mission-of-religious-training/
SUMMARY:Panel Discussion: The Changing Mission of Religious Training
DESCRIPTION:As seminaries face decreasing attendance and significant shifts
  in the religious interests of church attendees\, they are faced with deep
  questions about relevancy.  Can they adapt and meet the challenges\, and 
 can they do so quickly enough to stay in front of the changes?  Are they r
 eacting or leading as they create religious leaders for the middle of the 
 21st century? In the Undercroft Gallery.
CATEGORIES:Other,UU Events
LOCATION:First Unitarian Church of Pittsburgh\, 605 Morewood Avenue\, Pitts
 burgh\, PA\, 15213\, United States
GEO:40.450619;-79.94266
X-APPLE-STRUCTURED-LOCATION;VALUE=URI;X-ADDRESS=605 Morewood Avenue\, Pitts
 burgh\, PA\, 15213\, United States;X-APPLE-RADIUS=100;X-TITLE=First Unitar
 ian Church of Pittsburgh:geo:40.450619,-79.94266
END:VEVENT
BEGIN:VTIMEZONE
TZID:America/New_York
X-LIC-LOCATION:America/New_York
BEGIN:DAYLIGHT
DTSTART:20230312T030000
TZOFFSETFROM:-0500
TZOFFSETTO:-0400
TZNAME:EDT
END:DAYLIGHT
END:VTIMEZONE
END:VCALENDAR