BEGIN:VCALENDAR
VERSION:2.0
PRODID:-//wp-events-plugin.com//7.2.3.1//EN
TZID:America/New_York
X-WR-TIMEZONE:America/New_York
BEGIN:VEVENT
UID:865@first-unitarian-pgh.org
DTSTART;TZID=America/New_York:20220505T183000
DTEND;TZID=America/New_York:20220505T213000
DTSTAMP:20220915T133618Z
URL:https://www.first-unitarian-pgh.org/events/pittsburgh-womens-magical-c
 ircle-8/
SUMMARY:Pittsburgh women’s magical circle
DESCRIPTION:Youth Room
CATEGORIES:Private Event
END:VEVENT
BEGIN:VTIMEZONE
TZID:America/New_York
X-LIC-LOCATION:America/New_York
BEGIN:DAYLIGHT
DTSTART:20220313T030000
TZOFFSETFROM:-0500
TZOFFSETTO:-0400
TZNAME:EDT
END:DAYLIGHT
END:VTIMEZONE
END:VCALENDAR