BEGIN:VCALENDAR
VERSION:2.0
PRODID:-//wp-events-plugin.com//7.2.3.1//EN
TZID:America/New_York
X-WR-TIMEZONE:America/New_York
BEGIN:VEVENT
UID:3468@first-unitarian-pgh.org
DTSTART;TZID=America/New_York:20250503T070000
DTEND;TZID=America/New_York:20250503T190000
DTSTAMP:20250418T153240Z
URL:https://www.first-unitarian-pgh.org/events/private-event-44/
SUMMARY:Gaia Fest
DESCRIPTION:Gaia Fest takes place at First Unitarian Church of Pittsburgh f
 rom 10:45 am with Maypole Dancing in the Garden\, until 6 pm\, and is a ce
 lebration of the local Pagan community! It includes vendors\, nonprofits\,
  healers\, readers\, five free workshops with the cost of admission\, and 
 food on site for sale.  At 5 pm\, a belly dance company will perform in t
 he Garden. Gaia Fest has been happening in greater Pittsburgh for 15 years
 \, and the admission rate has been $5 for the past 10 years. Children age 
 three and younger are always free. With elevator access\, the site is hand
 icapped accessible.\n\nUndercroft gallery\, Schweitzer room\, Garden\, Cha
 nning\, Harper\, and Library.
CATEGORIES:Community
END:VEVENT
BEGIN:VTIMEZONE
TZID:America/New_York
X-LIC-LOCATION:America/New_York
BEGIN:DAYLIGHT
DTSTART:20250309T030000
TZOFFSETFROM:-0500
TZOFFSETTO:-0400
TZNAME:EDT
END:DAYLIGHT
END:VTIMEZONE
END:VCALENDAR