BEGIN:VCALENDAR
VERSION:2.0
PRODID:-//wp-events-plugin.com//7.2.3.1//EN
TZID:America/New_York
X-WR-TIMEZONE:America/New_York
BEGIN:VEVENT
UID:771@first-unitarian-pgh.org
DTSTART;TZID=America/New_York:20221117T190000
DTEND;TZID=America/New_York:20221117T213000
DTSTAMP:20230310T152053Z
URL:https://www.first-unitarian-pgh.org/events/private-group-meeting-2022-
 11-17/
SUMMARY:First Pennsylvania Commandiere
DESCRIPTION:Schweitzer room
CATEGORIES:Community
END:VEVENT
BEGIN:VTIMEZONE
TZID:America/New_York
X-LIC-LOCATION:America/New_York
BEGIN:STANDARD
DTSTART:20221106T010000
TZOFFSETFROM:-0400
TZOFFSETTO:-0500
TZNAME:EST
END:STANDARD
END:VTIMEZONE
END:VCALENDAR