BEGIN:VCALENDAR
VERSION:2.0
PRODID:-//wp-events-plugin.com//7.2.3.1//EN
TZID:America/New_York
X-WR-TIMEZONE:America/New_York
BEGIN:VEVENT
UID:3329@first-unitarian-pgh.org
DTSTART;TZID=America/New_York:20241208T170000
DTEND;TZID=America/New_York:20241208T193000
DTSTAMP:20241114T172837Z
URL:https://www.first-unitarian-pgh.org/events/racial-justice-task-force-h
 oliday-social-gathering/
SUMMARY:Racial Justice Task Force Holiday Social Gathering
DESCRIPTION:Schweitzer Room\nSchweitzer Room kitchen
CATEGORIES:Community
END:VEVENT
BEGIN:VTIMEZONE
TZID:America/New_York
X-LIC-LOCATION:America/New_York
BEGIN:STANDARD
DTSTART:20241103T010000
TZOFFSETFROM:-0400
TZOFFSETTO:-0500
TZNAME:EST
END:STANDARD
END:VTIMEZONE
END:VCALENDAR