BEGIN:VCALENDAR
VERSION:2.0
PRODID:-//wp-events-plugin.com//7.2.3.1//EN
TZID:America/New_York
X-WR-TIMEZONE:America/New_York
BEGIN:VEVENT
UID:1958@first-unitarian-pgh.org
DTSTART;TZID=America/New_York:20231101T190000
DTEND;TZID=America/New_York:20231101T210000
DTSTAMP:20231011T190245Z
URL:https://www.first-unitarian-pgh.org/events/samhain-earth-religion-cele
 bration/
SUMMARY:Samhain Earth Religion Celebration
DESCRIPTION:Erica Shadowsong and Robert Piemme are hosting a Wiccan/Pagan c
 elebration of Samhain\, an autumn festival that honors ancestors and celeb
 rates the coming of winter.\n\nAll are welcome.\n\nThe ceremony will inclu
 de a chant\, a short outdoor ceremony in the garden\, traditional Pagan pr
 ayers\, and then be followed by refreshments (with vegan and vegetarian op
 tions available).\n\nYou are invited to observe the ceremony or participat
 e (chanting\, prayers) as you feel comfortable.
CATEGORIES:Community
END:VEVENT
BEGIN:VTIMEZONE
TZID:America/New_York
X-LIC-LOCATION:America/New_York
BEGIN:DAYLIGHT
DTSTART:20230312T030000
TZOFFSETFROM:-0500
TZOFFSETTO:-0400
TZNAME:EDT
END:DAYLIGHT
END:VTIMEZONE
END:VCALENDAR