BEGIN:VCALENDAR
VERSION:2.0
PRODID:-//wp-events-plugin.com//7.2.3.1//EN
TZID:America/New_York
X-WR-TIMEZONE:America/New_York
BEGIN:VEVENT
UID:909@first-unitarian-pgh.org
DTSTART;TZID=America/New_York:20221103T123000
DTEND;TZID=America/New_York:20221103T163000
DTSTAMP:20221024T175632Z
URL:https://www.first-unitarian-pgh.org/events/sewing-circle/
SUMMARY:sewing circle
DESCRIPTION:This event will take place on the first Thursday of November an
 d the first Thursday of December in the Undercroft Gallery. Members and fr
 iends are invited to a sewing circle. We will be making pillow cases forTh
 e Million Pillowcase Challenge\, an annual event that makes pillows of cha
 rity. The cases we make will go to Children's Hospital. More information w
 ill be available. If you don't have a sewing machine (or don't sew) and wo
 uld still like to participate\, come prepared to cut (using a rotary cutte
 r that will be provided) or to iron. We will teach those who have not done
  this before how to make the wonderflul"Quick as a Wink" pillowcases. We w
 ill enjoy being together and working together.
CATEGORIES:Serve
LOCATION:First Unitarian Church of Pittsburgh\, 605 Morewood Avenue\, Pitts
 burgh\, PA\, 15213\, United States
GEO:40.450619;-79.94266
X-APPLE-STRUCTURED-LOCATION;VALUE=URI;X-ADDRESS=605 Morewood Avenue\, Pitts
 burgh\, PA\, 15213\, United States;X-APPLE-RADIUS=100;X-TITLE=First Unitar
 ian Church of Pittsburgh:geo:40.450619,-79.94266
END:VEVENT
BEGIN:VTIMEZONE
TZID:America/New_York
X-LIC-LOCATION:America/New_York
BEGIN:DAYLIGHT
DTSTART:20220313T030000
TZOFFSETFROM:-0500
TZOFFSETTO:-0400
TZNAME:EDT
END:DAYLIGHT
END:VTIMEZONE
END:VCALENDAR