BEGIN:VCALENDAR
VERSION:2.0
PRODID:-//wp-events-plugin.com//7.2.3.1//EN
TZID:America/New_York
X-WR-TIMEZONE:America/New_York
BEGIN:VEVENT
UID:478@first-unitarian-pgh.org
DTSTART;TZID=America/New_York:20211127T193000
DTEND;TZID=America/New_York:20211127T210000
DTSTAMP:20211122T141442Z
URL:https://www.first-unitarian-pgh.org/events/songspace-2/
SUMMARY:SongSpace Presents Kate Snow: Strange Power
DESCRIPTION:First Unitarian Church member Kate Snow performs her one-woman 
 show\, "Strange Power." The performance is appropriate for all ages.\n\nAd
 mission is a free-will donation.\n\nWe require masks\, vaccination cards a
 nd contact information (e.g. email)\, should contact tracing become necess
 ary.\n\nFor more information: 412.621.8008\; uusongspace@gmail.com\; or u
 usongspace.com
CATEGORIES:Concerts,Music
LOCATION:First Unitarian Church of Pittsburgh\, 605 Morewood Avenue\, Pitts
 burgh\, PA\, 15213\, United States
GEO:40.450619;-79.94266
X-APPLE-STRUCTURED-LOCATION;VALUE=URI;X-ADDRESS=605 Morewood Avenue\, Pitts
 burgh\, PA\, 15213\, United States;X-APPLE-RADIUS=100;X-TITLE=First Unitar
 ian Church of Pittsburgh:geo:40.450619,-79.94266
END:VEVENT
BEGIN:VTIMEZONE
TZID:America/New_York
X-LIC-LOCATION:America/New_York
BEGIN:STANDARD
DTSTART:20211107T010000
TZOFFSETFROM:-0400
TZOFFSETTO:-0500
TZNAME:EST
END:STANDARD
END:VTIMEZONE
END:VCALENDAR