BEGIN:VCALENDAR
VERSION:2.0
PRODID:-//wp-events-plugin.com//7.2.3.1//EN
TZID:America/New_York
X-WR-TIMEZONE:America/New_York
BEGIN:VEVENT
UID:3415@first-unitarian-pgh.org
DTSTART;TZID=America/New_York:20250125T193000
DTEND;TZID=America/New_York:20250125T213000
DTSTAMP:20250113T173005Z
URL:https://www.first-unitarian-pgh.org/events/songspace-presents-chrissy-
 strong-and-morgan-erina/
SUMMARY:SongSpace Presents Chrissy Strong and Morgan Erina
DESCRIPTION:Chrissy Strong &amp\; Morgan Erina\nSaturday January 25\n7:30pm
 \nAdvance Tickets at https://uusongspace.eventbee.com!\n\nWe've been looki
 ng forward to this co-bill all year long!\n\nChrissy Strong (https://www.c
 hrissystrongmusic.com/) is an engaging indie singer/songwriter from Akron\
 , Ohio. Her songwriting is rooted in soulful\, edgy piano ballads with a r
 aw and free-flowing approach. Winner of the Best Female Vocalist Award at 
 the 2022 Cleveland Music Awards\, she has battled with long term substance
  abuse and alcoholism and has been recovering since April 1st of 2006. She
 's developed a devoted fan following\, moved by her spirited live performa
 nces and brave and honest storytelling.\n\nMorgan Erina (https://morganeri
 na.com/) is well-known in the Pittsburgh area for her finger-picking\, Ind
 ie Folk style and a raw\, hauntingly ethereal voice. A prolific composer o
 f over 700 songs\, Morgan Erina is a New York City native who has lived in
  Pittsburgh for 12 years. As well as a solo performer\, Morgan is one-half
  of the band Broken Fences\, and she has toured the continental U.S.\, Lon
 don\, Denmark\, and Germany. Her solo EP "Lady" was named #2 on Pittsburgh
  radio's WYEP’s Top 5 Local Albums for 2016\, and in 2021 she released a
 n electronic dream pop album titled “Dissociation”.\n\nDoors 7:00pm\nS
 how 7:30pm\nGeneral $15+fee advanced\; $20 at the door\nStudent/reduced in
 come: $10+fee advanced\; $15 at the door\nOr\, pay what you can to support
  live music in Pittsburgh!\nFind Advance Tickets at https://uusongspace.ev
 entbee.com!\n\nSongSpace at First Unitarian\nhttps://uusongspace.com\nFirs
 t Unitarian Church of Pittsburgh\n605 Morewood Avenue\, Shadyside\nPittsbu
 rgh PA 15213
CATEGORIES:Concerts
LOCATION:First Unitarian Church of Pittsburgh\, 605 Morewood Avenue\, Pitts
 burgh\, PA\, 15213\, United States
GEO:40.450619;-79.94266
X-APPLE-STRUCTURED-LOCATION;VALUE=URI;X-ADDRESS=605 Morewood Avenue\, Pitts
 burgh\, PA\, 15213\, United States;X-APPLE-RADIUS=100;X-TITLE=First Unitar
 ian Church of Pittsburgh:geo:40.450619,-79.94266
END:VEVENT
BEGIN:VTIMEZONE
TZID:America/New_York
X-LIC-LOCATION:America/New_York
BEGIN:STANDARD
DTSTART:20241103T010000
TZOFFSETFROM:-0400
TZOFFSETTO:-0500
TZNAME:EST
END:STANDARD
END:VTIMEZONE
END:VCALENDAR