BEGIN:VCALENDAR
VERSION:2.0
PRODID:-//wp-events-plugin.com//7.2.3.1//EN
TZID:America/New_York
X-WR-TIMEZONE:America/New_York
BEGIN:VEVENT
UID:113@first-unitarian-pgh.org
DTSTART;TZID=America/New_York:20200926T193000
DTEND;TZID=America/New_York:20200926T210000
DTSTAMP:20200921T203122Z
URL:https://www.first-unitarian-pgh.org/events/songspace-virtual-concert/
SUMMARY:SongSpace Virtual Concert
DESCRIPTION:SongSpace\, which features local and national artists performin
 g folk\, old-time\, bluegrass\, singer-songwriter and world music\, will p
 resent a virtual concert at 7:30 p.m. Saturday\, Sept. 26.\n\nThe performa
 nce will be live-streamed on the group’s Facebook page. The featured art
 ists are Brad Yoder\, Morgan Erina and Jason Rafalak\, all suitably social
 ly distanced but playing for you.\n\nThis will be an unticketed\, free str
 eam. But there will be links to Venmo and other online payment tools so yo
 u can tip the artists. They can’t survive and play the music you love wi
 thout your support!
CATEGORIES:Concerts
LOCATION:https://www.facebook.com/SongSpace
END:VEVENT
BEGIN:VTIMEZONE
TZID:America/New_York
X-LIC-LOCATION:America/New_York
BEGIN:DAYLIGHT
DTSTART:20200308T030000
TZOFFSETFROM:-0500
TZOFFSETTO:-0400
TZNAME:EDT
END:DAYLIGHT
END:VTIMEZONE
END:VCALENDAR