BEGIN:VCALENDAR
VERSION:2.0
PRODID:-//wp-events-plugin.com//7.2.3.1//EN
TZID:America/New_York
X-WR-TIMEZONE:America/New_York
BEGIN:VEVENT
UID:3253@first-unitarian-pgh.org
DTSTART;TZID=America/New_York:20241027T113000
DTEND;TZID=America/New_York:20241027T130000
DTSTAMP:20241017T182951Z
URL:https://www.first-unitarian-pgh.org/events/souls-to-the-polls/
SUMMARY:SOULS TO THE POLLS
DESCRIPTION:“SOULS TO THE POLLS” is happening on Sunday\, Oct. 27\, aft
 er our church service. We will join the Bethel AME Church Community on a f
 estive bus ride from the Bethel AME Church in the Hill District to the Hom
 ewood Satellite Polling site:\nCommunity College of Allegheny County - Hom
 ewood\n701 N. Homewood Ave\nPittsburgh\, PA 15208\narriving at 12:30PM.\nA
 ll of us together will drop off our ballots and bring awareness by our pre
 sence to the importance of satellite voting locations in areas like Homewo
 od. We will also help any unregistered people to get registered\, get a ba
 llot\, vote and turn it in there. We have been specifically invited by Pas
 tor Snyder from Bethel AME Church. Contact Maria Magone for more info and 
 to sign up. maria.magone@verizon.net\n\nThank you for considering these i
 mportant Racial Justice opportunities to support the work\, the wonder\, a
 nd the witness of our Unitarian Universalist faith!
CATEGORIES:Community
END:VEVENT
BEGIN:VTIMEZONE
TZID:America/New_York
X-LIC-LOCATION:America/New_York
BEGIN:DAYLIGHT
DTSTART:20240310T030000
TZOFFSETFROM:-0500
TZOFFSETTO:-0400
TZNAME:EDT
END:DAYLIGHT
END:VTIMEZONE
END:VCALENDAR