BEGIN:VCALENDAR
VERSION:2.0
PRODID:-//wp-events-plugin.com//7.2.3.1//EN
TZID:America/New_York
X-WR-TIMEZONE:America/New_York
BEGIN:VEVENT
UID:4159@first-unitarian-pgh.org
DTSTART;TZID=America/New_York:20260419T090000
DTEND;TZID=America/New_York:20260419T100000
DTSTAMP:20260307T200808Z
URL:https://www.first-unitarian-pgh.org/events/sunday-forum-speaker-series
 -2025-10-05-2025-10-19-2025-11-02-2025-11-16-2025-11-30-2025-12-14-2025-12
 -28-2026-01-11-2026-01-25-2026-02-08-2026-02-22-2026-03-08-2026-03-22-2026
 -04-05-2026-04-19/
SUMMARY:Sunday Forum Speaker Series
DESCRIPTION:The Sunday Forum hosts speakers from inside and (mostly) outsid
 e our church. Topics have emphasized social justice issues but include oth
 er items of interest to our congregants as well community members. 
CATEGORIES:Community,Sunday Forum
LOCATION:First Unitarian Church of Pittsburgh\, 605 Morewood Avenue\, Pitts
 burgh\, PA\, 15213\, United States
GEO:40.450619;-79.94266
X-APPLE-STRUCTURED-LOCATION;VALUE=URI;X-ADDRESS=605 Morewood Avenue\, Pitts
 burgh\, PA\, 15213\, United States;X-APPLE-RADIUS=100;X-TITLE=First Unitar
 ian Church of Pittsburgh:geo:40.450619,-79.94266
END:VEVENT
BEGIN:VTIMEZONE
TZID:America/New_York
X-LIC-LOCATION:America/New_York
BEGIN:DAYLIGHT
DTSTART:20260308T030000
TZOFFSETFROM:-0500
TZOFFSETTO:-0400
TZNAME:EDT
END:DAYLIGHT
END:VTIMEZONE
END:VCALENDAR