BEGIN:VCALENDAR
VERSION:2.0
PRODID:-//wp-events-plugin.com//7.2.3.1//EN
TZID:America/New_York
X-WR-TIMEZONE:America/New_York
BEGIN:VEVENT
UID:1151@first-unitarian-pgh.org
DTSTART;TZID=America/New_York:20230312T120000
DTEND;TZID=America/New_York:20230312T130000
DTSTAMP:20230302T194716Z
URL:https://www.first-unitarian-pgh.org/events/the-pittsburgh-community-ga
 melan-workshop-2/
SUMMARY:The Pittsburgh Community Gamelan Workshop
DESCRIPTION:First Unitarian has been hosting a new ensemble in Pittsburgh d
 edicated to the study and performance of Sundanese gamelan music. The Pit
 tsburgh Community Gamelan will perform during worship and will lead a fre
 e hands-on workshop after coffee hour.  Participants will learn to play a
  simple piece of gamelan music. No prior experience is required and all ar
 e welcome. Please be prepared to sit on the floor and remove your shoes i
 n accordance with the cultural practice of this music.\n
CATEGORIES:Music
END:VEVENT
BEGIN:VTIMEZONE
TZID:America/New_York
X-LIC-LOCATION:America/New_York
BEGIN:DAYLIGHT
DTSTART:20230312T030000
TZOFFSETFROM:-0500
TZOFFSETTO:-0400
TZNAME:EDT
END:DAYLIGHT
END:VTIMEZONE
END:VCALENDAR