BEGIN:VCALENDAR
VERSION:2.0
PRODID:-//wp-events-plugin.com//7.2.3.1//EN
TZID:America/New_York
X-WR-TIMEZONE:America/New_York
BEGIN:VEVENT
UID:1126@first-unitarian-pgh.org
DTSTART;TZID=America/New_York:20230212T120000
DTEND;TZID=America/New_York:20230212T130000
DTSTAMP:20230209T150957Z
URL:https://www.first-unitarian-pgh.org/events/uua-ga-information-session/
SUMMARY:UUA GA information session
DESCRIPTION:In the Sweitzer Room\, we will present information about: 1. ea
 rly registration for GA that will occur in Pittsburgh in June 2023\, 2. vo
 lunteer opportunities\, 3. home hospitality that benefits the church 4. ho
 w to become a delegate.
CATEGORIES:Other
LOCATION:First Unitarian Church of Pittsburgh\, 605 Morewood Avenue\, Pitts
 burgh\, PA\, 15213\, United States
GEO:40.450619;-79.94266
X-APPLE-STRUCTURED-LOCATION;VALUE=URI;X-ADDRESS=605 Morewood Avenue\, Pitts
 burgh\, PA\, 15213\, United States;X-APPLE-RADIUS=100;X-TITLE=First Unitar
 ian Church of Pittsburgh:geo:40.450619,-79.94266
END:VEVENT
BEGIN:VTIMEZONE
TZID:America/New_York
X-LIC-LOCATION:America/New_York
BEGIN:STANDARD
DTSTART:20221106T010000
TZOFFSETFROM:-0400
TZOFFSETTO:-0500
TZNAME:EST
END:STANDARD
END:VTIMEZONE
END:VCALENDAR