BEGIN:VCALENDAR
VERSION:2.0
PRODID:-//wp-events-plugin.com//7.2.3.1//EN
TZID:America/New_York
X-WR-TIMEZONE:America/New_York
BEGIN:VEVENT
UID:485@first-unitarian-pgh.org
DTSTART;TZID=America/New_York:20211113T090000
DTEND;TZID=America/New_York:20211113T160000
DTSTAMP:20211021T164106Z
URL:https://www.first-unitarian-pgh.org/events/uujusticepa-advocacy-day/
SUMMARY:UUJusticePA Advocacy Day
DESCRIPTION:Register to attend and learn and strengthen your advocacy and o
 rganizing skills. Learn more: https://www.first-unitarian-pgh.org/saving-o
 ur-democracy-uujusticepa-advocacy-day/
CATEGORIES:Community,UU Events
END:VEVENT
BEGIN:VTIMEZONE
TZID:America/New_York
X-LIC-LOCATION:America/New_York
BEGIN:STANDARD
DTSTART:20211107T010000
TZOFFSETFROM:-0400
TZOFFSETTO:-0500
TZNAME:EST
END:STANDARD
END:VTIMEZONE
END:VCALENDAR