BEGIN:VCALENDAR
VERSION:2.0
PRODID:-//wp-events-plugin.com//7.2.3.1//EN
TZID:America/New_York
X-WR-TIMEZONE:America/New_York
BEGIN:VEVENT
UID:968@first-unitarian-pgh.org
DTSTART;TZID=America/New_York:20221117T093000
DTEND;TZID=America/New_York:20221117T123000
DTSTAMP:20221024T191900Z
URL:https://www.first-unitarian-pgh.org/events/womens-alliance-3/
SUMMARY:Women's Alliance
DESCRIPTION:The Women’s Alliance meets on the first and third Thursdays f
 rom October through May. We gather for mutual support\, personal growth\, 
 spiritual enrichment\, and sometimes just plain old fun. All are welcome.\
 n\nSchweitzer room\, meeting starts at 10:30 am.
CATEGORIES:Community
END:VEVENT
BEGIN:VTIMEZONE
TZID:America/New_York
X-LIC-LOCATION:America/New_York
BEGIN:STANDARD
DTSTART:20221106T010000
TZOFFSETFROM:-0400
TZOFFSETTO:-0500
TZNAME:EST
END:STANDARD
END:VTIMEZONE
END:VCALENDAR