BEGIN:VCALENDAR
VERSION:2.0
PRODID:-//wp-events-plugin.com//7.2.3.1//EN
TZID:America/New_York
X-WR-TIMEZONE:America/New_York
BEGIN:VEVENT
UID:984@first-unitarian-pgh.org
DTSTART;TZID=America/New_York:20221117T103000
DTEND;TZID=America/New_York:20221117T120000
DTSTAMP:20221110T143543Z
URL:https://www.first-unitarian-pgh.org/events/womens-alliance-presentatio
 n-on-bird-migration/
SUMMARY:Women's Alliance presentation on Bird Migration
DESCRIPTION:Migration of any animal\, let alone birds\, is one of the wonde
 rs of nature! Chris Kubiak\, Director of Education at Audubon Society of W
 estern Pennsylvania\, will join us via Zoom to discuss how birds navigate 
 their journeys\, often spanning thousands of miles and continents\, at nig
 ht\, and make it to their point of destination. This talk will cover how a
 nd why birds migrate\, where and why they leave\, and mysteries we are sti
 ll only beginning to learn about. Join the Women’s Alliance on Thursday\
 , November 17. The general meeting begins at 10:30 am and the presentation
  begins at 11 am. Email womensalliance@first-unitarian-pgh.org if you need
  the zoom link or want to attend the meeting in person. All are welcome.
CATEGORIES:Women's Alliance
END:VEVENT
BEGIN:VTIMEZONE
TZID:America/New_York
X-LIC-LOCATION:America/New_York
BEGIN:STANDARD
DTSTART:20221106T010000
TZOFFSETFROM:-0400
TZOFFSETTO:-0500
TZNAME:EST
END:STANDARD
END:VTIMEZONE
END:VCALENDAR