BEGIN:VCALENDAR
VERSION:2.0
PRODID:-//wp-events-plugin.com//7.2.3.1//EN
TZID:America/New_York
X-WR-TIMEZONE:America/New_York
BEGIN:VEVENT
UID:921@first-unitarian-pgh.org
DTSTART;TZID=America/New_York:20221103T120000
DTEND;TZID=America/New_York:20221103T140000
DTSTAMP:20221006T144928Z
URL:https://www.first-unitarian-pgh.org/events/womens-alliance-with-seven-
 sisters-sewing-circle/
SUMMARY:Women's Alliance with Seven Sisters sewing circle
DESCRIPTION:The Seven Sisters Quilters are hosting a sewing circle in the U
 ndercroft Gallery on Thursday afternoon\, November 3\, and Thursday aftern
 oon\, December 1. We will start at 12:30
CATEGORIES:Women's Alliance
END:VEVENT
BEGIN:VTIMEZONE
TZID:America/New_York
X-LIC-LOCATION:America/New_York
BEGIN:DAYLIGHT
DTSTART:20220313T030000
TZOFFSETFROM:-0500
TZOFFSETTO:-0400
TZNAME:EDT
END:DAYLIGHT
END:VTIMEZONE
END:VCALENDAR