BEGIN:VCALENDAR
VERSION:2.0
PRODID:-//wp-events-plugin.com//7.2.3.1//EN
TZID:America/New_York
X-WR-TIMEZONE:America/New_York
BEGIN:VEVENT
UID:5311@first-unitarian-pgh.org
DTSTART;TZID=America/New_York:20260322T113000
DTEND;TZID=America/New_York:20260419T123000
DTSTAMP:20260409T175525Z
URL:https://www.first-unitarian-pgh.org/events/young-adults-of-uu-social-h
 our/
SUMMARY:Young Adults UU Social Hour
DESCRIPTION:Young Adults of UU social hour
CATEGORIES:Young Adults
END:VEVENT
BEGIN:VTIMEZONE
TZID:America/New_York
X-LIC-LOCATION:America/New_York
BEGIN:DAYLIGHT
DTSTART:20260308T030000
TZOFFSETFROM:-0500
TZOFFSETTO:-0400
TZNAME:EDT
END:DAYLIGHT
END:VTIMEZONE
END:VCALENDAR